BEGIN:VCALENDAR
VERSION:2.0
PRODID:-//Blue Ocean Music Hall - OFFICIAL SITE - ECPv6.15.20//NONSGML v1.0//EN
CALSCALE:GREGORIAN
METHOD:PUBLISH
X-ORIGINAL-URL:https://www.blueoceanhall.com
X-WR-CALDESC:Events for Blue Ocean Music Hall - OFFICIAL SITE
REFRESH-INTERVAL;VALUE=DURATION:PT1H
X-Robots-Tag:noindex
X-PUBLISHED-TTL:PT1H
BEGIN:VTIMEZONE
TZID:UTC
BEGIN:STANDARD
TZOFFSETFROM:+0000
TZOFFSETTO:+0000
TZNAME:UTC
DTSTART:20250101T000000
END:STANDARD
END:VTIMEZONE
BEGIN:VEVENT
DTSTART;TZID=UTC:20261121T200000
DTEND;TZID=UTC:20261121T220000
DTSTAMP:20260419T102122
CREATED:20260407T140016Z
LAST-MODIFIED:20260410T173152Z
UID:5991-1795291200-1795298400@www.blueoceanhall.com
SUMMARY:Def Leppard’s Journey with Keith Carmichael
DESCRIPTION:Reserved Seating: $25.50-$29.50\nVIP Meet & Greet: $65.00\n \n+ $3 Additional Day of Show \nBUY TICKETS \nAbout Def Leppard’s Journey Tribute Band \nDef Leppard’s Journey Tribute Band is a vibrant homage to one of rock’s most iconic groups\, expertly capturing the essence of their electrifying performances. With an unwavering commitment to authenticity\, the band delivers a high-energy show that spans not only the beloved hits of Def Leppard but also other legendary acts from the same generation. Each concert is a carefully crafted experience\, featuring powerful vocals\, intricate guitar solos\, and an atmosphere that transports audiences back to the golden age of rock. Fans can revel in the nostalgia as they sing along to unforgettable anthems\, all while enjoying a visually stunning performance that combines lights\, pyrotechnics\, and genuine rock ‘n’ roll spirit. This tribute band goes above and beyond\, ensuring that every show is not just a concert\, but a memorable celebration of the music that defined a generation. Rock on! \n \nIndulge your senses in great food and dine at one of our on-site restaurants before the show! Click to make a reservation for dinner before the show at Seaglass Restaurant\, SurfSide Salisbury\, or Capri Seaside Italian Kitchen & Pizzeria.
URL:https://www.blueoceanhall.com/event/def-leppards-journey-with-keith-carmichael-2/
ATTACH;FMTTYPE=image/jpeg:https://www.blueoceanhall.com/wp-content/uploads/2025/09/BOMH-1-scaled.jpg
END:VEVENT
END:VCALENDAR