BEGIN:VCALENDAR
VERSION:2.0
PRODID:-//Blue Ocean Music Hall - OFFICIAL SITE - ECPv6.15.20//NONSGML v1.0//EN
CALSCALE:GREGORIAN
METHOD:PUBLISH
X-ORIGINAL-URL:https://www.blueoceanhall.com
X-WR-CALDESC:Events for Blue Ocean Music Hall - OFFICIAL SITE
REFRESH-INTERVAL;VALUE=DURATION:PT1H
X-Robots-Tag:noindex
X-PUBLISHED-TTL:PT1H
BEGIN:VTIMEZONE
TZID:UTC
BEGIN:STANDARD
TZOFFSETFROM:+0000
TZOFFSETTO:+0000
TZNAME:UTC
DTSTART:20250101T000000
END:STANDARD
END:VTIMEZONE
BEGIN:VEVENT
DTSTART;TZID=UTC:20261009T200000
DTEND;TZID=UTC:20261009T230000
DTSTAMP:20260419T085130
CREATED:20260303T180229Z
LAST-MODIFIED:20260306T150221Z
UID:5900-1791576000-1791586800@www.blueoceanhall.com
SUMMARY:Playing Dead - Grateful Dead Tribute
DESCRIPTION:Doors Open at 7PM \nReserved Seating: $19.50 – $25\n+ $3 Additional Day of Show\n \nBUY TICKETS \nAbout Playing Dead \nPlaying Dead is a Grateful Dead tribute featuring former members of Dark Star Orchestra\, Slipknot!\, and Uncle John’s Band. Their marathon sets feature music and jams from the entire Grateful Dead catalog. Playing Dead faithfully recreates the experience of a live Grateful Dead concert. The music of The Grateful Dead is a complex stew of different styles of music including rock\, blues\, jazz\, folk\, bluegrass and more. Their improvisational style and large repertoire guaranteed that every musical performance would be unique. Every Playing Dead show is equally unique featuring different set lists each night and exciting improvisational jams. \nMusicians: \n\n\n\nVic DeRobertis – Lead Guitar and Vocals\nJimbo Harris – Rhythm Guitar and Vocals\nMark Munzer – Keyboards and Vocal\nDave Olson – Bass and Vocals\nBrian Epstein – Drums\n\n\n\n \nIndulge your senses in great food and dine at one of our on-site restaurants before the show! Click to make a reservation for dinner before the show at Seaglass Restaurant\, or Capri Seaside Italian Kitchen & Pizzeria.
URL:https://www.blueoceanhall.com/event/playing-dead-grateful-dead-tribute/
ATTACH;FMTTYPE=image/png:https://www.blueoceanhall.com/wp-content/uploads/2024/12/PD-Band-With-Logo-Promo-copy.png
END:VEVENT
END:VCALENDAR