BEGIN:VCALENDAR
VERSION:2.0
PRODID:-//Blue Ocean Music Hall - OFFICIAL SITE - ECPv6.15.20//NONSGML v1.0//EN
CALSCALE:GREGORIAN
METHOD:PUBLISH
X-ORIGINAL-URL:https://www.blueoceanhall.com
X-WR-CALDESC:Events for Blue Ocean Music Hall - OFFICIAL SITE
REFRESH-INTERVAL;VALUE=DURATION:PT1H
X-Robots-Tag:noindex
X-PUBLISHED-TTL:PT1H
BEGIN:VTIMEZONE
TZID:America/New_York
BEGIN:DAYLIGHT
TZOFFSETFROM:-0500
TZOFFSETTO:-0400
TZNAME:EDT
DTSTART:20240310T070000
END:DAYLIGHT
BEGIN:STANDARD
TZOFFSETFROM:-0400
TZOFFSETTO:-0500
TZNAME:EST
DTSTART:20241103T060000
END:STANDARD
BEGIN:DAYLIGHT
TZOFFSETFROM:-0500
TZOFFSETTO:-0400
TZNAME:EDT
DTSTART:20250309T070000
END:DAYLIGHT
BEGIN:STANDARD
TZOFFSETFROM:-0400
TZOFFSETTO:-0500
TZNAME:EST
DTSTART:20251102T060000
END:STANDARD
BEGIN:DAYLIGHT
TZOFFSETFROM:-0500
TZOFFSETTO:-0400
TZNAME:EDT
DTSTART:20260308T070000
END:DAYLIGHT
BEGIN:STANDARD
TZOFFSETFROM:-0400
TZOFFSETTO:-0500
TZNAME:EST
DTSTART:20261101T060000
END:STANDARD
END:VTIMEZONE
BEGIN:VTIMEZONE
TZID:UTC
BEGIN:STANDARD
TZOFFSETFROM:+0000
TZOFFSETTO:+0000
TZNAME:UTC
DTSTART:20240101T000000
END:STANDARD
END:VTIMEZONE
BEGIN:VEVENT
DTSTART;TZID=America/New_York:20250703T200000
DTEND;TZID=America/New_York:20250703T230000
DTSTAMP:20260419T114004
CREATED:20250422T140030Z
LAST-MODIFIED:20250625T180100Z
UID:2234-1751572800-1751583600@www.blueoceanhall.com
SUMMARY:Mighty Mystic Pre-4th of July Reggae Jam
DESCRIPTION:🏄‍♂️ Performing on the SurfSide Deck 🌊\n🗓️ Thursday\, July 3 | ⏰ 8PM\n🚪 Doors Open at 7PM.\nw/ DJ Bossroots Sound System\n& Opener:Different StrokeZ Band\n🎟️ General Admission/Standing Room Only\n🎟️ Advanced Tickets Online – $20\n🎟️ Day of Show – $25 \nThis event is for 21+ ONLY\nNO BACKPACKS | NO RE-ENTRY \nBUY TICKETS  \nAbout Mighty Mystic \nMighty Mystic is considered as one of the leaders in the U.S. Reggae scene and labeled by many as one of the more prolific artists to develop outside of Jamaica. He has gripped the scene with ferocious conviction and an uncanny ambition worthy to be mentioned among the greats. He has gone from being a fan of reggae music to being a contributor to the art. Mighty Mystic came on the scene in 2006 after scoring his first international hit with the song “Riding on the Clouds.” However\, it wasn’t until the release of his first album “Wake up the World” (2010) that he became a household name. “Wake up the World” boasted several standouts\, such as “Revolution\,” “Riding on the Clouds\,” “Original Love\,” and “Slipped Away” with appearances from reggae icon Shaggy and roots rocker Lutan Fyah. Mystic continues to wake up the world with his high energy\, message driven brand of reggae music which he emphatically calls “HARD ROOTS.” It is this unique spin on classic reggae blended with Hip Hop & Rock that has catapulted him to the forefront of today’s Reggae Revival. Mighty Mystic is also the younger brother of current Jamaican Prime Minister Andrew Holness. When asked\, does being the brother of Prime Minister Holness have any impact on your music? Mystic simply says “Andrew has a job to do and so do I\, impact or not we both have our own mission to complete”. \nNew Album: ‘GIANT’: Out Now!\nBUY HERE: https://smarturl.it/MightyMysticGiant\n“Turn down the violence and turn UP the Reggae” \nImportant Event Info:  \n🕖 7PM: Opener 🎧\n🕗 8PM: Mighty Mystic 🎤 \n*Rain Location- Blue Ocean Music Hall \n  \n 
URL:https://www.blueoceanhall.com/event/reggae-sunday-at-surfside-ft-mighty-mystic/
ATTACH;FMTTYPE=image/jpeg:https://www.blueoceanhall.com/wp-content/uploads/2024/04/39B0E795-B917-4BFD-8729-6BDDD7AF19F8.jpeg
END:VEVENT
BEGIN:VEVENT
DTSTART;TZID=UTC:20250711T200000
DTEND;TZID=UTC:20250711T220000
DTSTAMP:20260419T114004
CREATED:20250318T140031Z
LAST-MODIFIED:20250617T212112Z
UID:4863-1752264000-1752271200@www.blueoceanhall.com
SUMMARY:The Record Company
DESCRIPTION:w/ ZG Smith \nGA/ Standing Room: $25\n+ $3 Additional Day of Show \nBUY TICKETS \nAbout The Record Company  \nWhen The Record Company pick up their instruments\, the members—Chris Vos [guitar\, lead vocals\, harmonica]\, Alex Stiff [bass\, backing vocals]\, and Marc Cazorla [drums\, backing vocals]—participate in a musical back-and-forth akin to a formative and supportive conversation among siblings. The nuances of their personalities seep through loose\, bluesy guitar leads\, airtight drum grooves\, thick bass\, and vividly evocative lyrics. With such fluidity\, the musicians respond to one another so instinctually you’d swear they were telepathically linked. However\, there’s no such superpower necessary when you’ve got the closest thing to a brotherhood that three musicians unrelated by blood can share… \nThe GRAMMY® Award-nominated trio only amplify the power of this bond on their fourth full-length offering and 2023 debut for Round Hill Records. \n“We know each other’s personalities on the instruments\, so we reconnected with one another and really found that brotherhood again\,” explains Chris. “It’s      always been there\, but we got back into a room where it was like a circle of stone. We’re creating something that will go out into the world. We all stand behind it equally\, and we’re willing to put our lives and love into it. When you put your career\, your future\, and your art into another person’s hands and you know they’re doing the same for you\, there’s a different level of trust. That’s been our secret since day one. When it’s challenging\, we’re all trying to figure out the challenge. When it’s good\, we’re all experiencing it together.” \nThey’ve experienced everything as a family since forming back in 2011. Along the way\, they served up a tested-and-proven      epic in the form of their 2016 debut\, Give It Back To You. The release      earned a GRAMMY® Award nomination in the category of “Best Contemporary Blues Album” and spawned “Off The Ground\,” which reached #1 at AAA Radio and tallied nearly 40 million total streams and counting. Beyond a string of stunning late-night television appearances\, they performed on CBS This Morning\, at Bonnaroo\, and on an extensive tour with John Mayer in addition to headlining coast-to-coast. They      maintained this momentum with All Of This Life [2018] and Play Loud [2021]. On top of       praise from American Songwriter\, Classic Rock\, and more\, NPR hailed the latter as “the band’s biggest and most dynamic record to date.” \n In 2021\, the guys hunkered down and commenced creating what would become their fourth LP. Working out of an intimate home studio in Beachwood Canyon\, they wrote\, recorded\, and self-produced the music. Outside of cutting drums at the legendary Sunset Sound\, it proved to be a homegrown affair through and through. \n “We got back to our old perspective\, which is to trust the idea\, get out of the way\, make something\, listen\, and respond to it\,” affirms Chris. \nAlex elaborates\, “We decided to record the organic thing that got us really excited to play music as a band in the first place. That was the general theme of this record. Keep it as close to a three-piece sound as possible. Keep the music raw. It’s a return to form in a way\, but we’re still growing.” \n “We’ve been doing this for a while     \,” adds Marc. “As long as we sound like us\, we can be proud of it. It’s not going to be for everybody\, but we’ve never been prouder of what we’re doing.” \nThe Record Company kicks off their next era with the single “Dance On Mondays.” Guitar cries through a hypnotically hummable bassline and head-nodding beat. Meanwhile\, a chantable hook instantly takes hold with grit and gusto as Chris affirms     \, “I don’t dance on Mondays.” \n “Somebody asked me to go see a band on a Monday night\, and I just said\, ‘I don’t dance on Mondays’\,” Alex recalls. “I wrote it down in my phone. The phrase signifies\, ‘I’m taking my life back\, and I’m not going to dance for anybody’. It goes back to where we are as a band and us being The Record Company.” \nThen\, there’s “Talk To Me.” Bass practically dances atop a simmering groove punctuated by tambourine before guitar kicks back in as Chris urges\, “So\, why don’t you talk to me?” Marc goes on\, “It reminds me of one of those rare Blue Note groove records with a chill vibe.” \n Launching into toe-tapping bounce\, harmonica wails on “Darkest Days” as the stomp and 12-string guitar underline a soulful vocal. “Highway Lady” shines with a Laurel Canyon meditation      in the glow of swooning slide guitar. \n“We wanted to make music you could listen to “Highway Lady” on a road trip in the car with the city’s lights behind you\,” Alex says. “This song     had this big vibe of feeling good both musically and spiritually.” \n“Lyrically\, it’s my favorite\,” adds Marc. “It could be about so many different things. I moved into this house with a little pool\, which I’d always wanted in Southern California. When it’s hot as shit out\, you naturally develop all of these new friends during the summer. You make a pool playlist\, and I wanted one of our tunes to be a contender. To me\, this is one.” \nIn the end\, The Record Company  are stronger than ever as a band and\, more importantly\, as brothers. \n“I’d love for people to hear this record and feel like they’re in the house with us making it\,” Alex leaves off. “I want them to feel like they’re part of this unpolished and homemade thing\, because that’s what we were trying to get back to.” \n“We’re a trio\, and that’s the completion of this circle\,” Marc concludes. “The fourth member of this group is the space between us. We embrace that space as part of the raw element. That’s what we explored on this album\, and it’s beautiful. We can’t wait to bring it on the road.” \nIndulge your senses in great food and dine at one of our on-site restaurants before the show! Click to make a reservation for dinner before the show at Seaglass Restaurant\, SurfSide Salisbury\, or Capri Seaside Italian Kitchen & Pizzeria.
URL:https://www.blueoceanhall.com/event/the-record-company/
ATTACH;FMTTYPE=image/jpeg:https://www.blueoceanhall.com/wp-content/uploads/2025/03/88370003-scaled.jpg
END:VEVENT
BEGIN:VEVENT
DTSTART;TZID=America/New_York:20250718T200000
DTEND;TZID=America/New_York:20250718T213000
DTSTAMP:20260419T114004
CREATED:20250408T140017Z
LAST-MODIFIED:20250519T202131Z
UID:4951-1752868800-1752874200@www.blueoceanhall.com
SUMMARY:Comedian Bob Marley
DESCRIPTION:Doors Open at 7:30PM \nReserved Seating $39.50\n+ $3 Additional Day of Show \nBUY TICKETS \nAbout Bob Marley \n\nCelebrating 15 years as a stand up comic\, Bob Marley is one of the hottest and most sought-after comedians in the country. He has been featured in his own special on Comedy Central\, and is one of the few comics to do the complete late night television circuit\, Late Show with David Letterman\, The Tonight Show with Jay Leno\, Late Night with Conan O’Brien\, The Late Late Show with Craig Ferguson\, and The Late Late Show with Craig Kilborn. \nThe Maine native is featured regularly on Sirius XM radio and has even won their Superbowl of Comedy. He has put out over 20 comedy CDs and DVDs. He was inducted into The Guinness Book of World’s Records for “the longest stand up comedy show by an individual” at 40 hours of straight standup! He’s been on over 100 TV shows and costarred in Boondock Saints I and II and All Saints Day\, playing Detective Greenly. He has toured the US\, Europe\, Canada\, Kuwait and Iraq. \nIndulge your senses in great food and dine at one of our on-site restaurants before the show! Click to make a reservation for dinner before the show at Seaglass Restaurant\, SurfSide Salisbury\, or Capri Seaside Italian Kitchen & Pizzeria.
URL:https://www.blueoceanhall.com/event/comedian-bob-marley-46/
ATTACH;FMTTYPE=image/jpeg:https://www.blueoceanhall.com/wp-content/uploads/2022/08/bobmarley3cropped.jpg
END:VEVENT
BEGIN:VEVENT
DTSTART;TZID=America/New_York:20250719T173000
DTEND;TZID=America/New_York:20250719T183000
DTSTAMP:20260419T114004
CREATED:20250513T134923Z
LAST-MODIFIED:20250522T174344Z
UID:5011-1752946200-1752949800@www.blueoceanhall.com
SUMMARY:Comedian Bob Marley
DESCRIPTION:Doors Open at 4:30PM \nReserved Seating $39.50\n+ $3 Additional Day of Show \nBUY TICKETS \nAbout Bob Marley \n\nCelebrating 15 years as a stand up comic\, Bob Marley is one of the hottest and most sought-after comedians in the country. He has been featured in his own special on Comedy Central\, and is one of the few comics to do the complete late night television circuit\, Late Show with David Letterman\, The Tonight Show with Jay Leno\, Late Night with Conan O’Brien\, The Late Late Show with Craig Ferguson\, and The Late Late Show with Craig Kilborn. \nThe Maine native is featured regularly on Sirius XM radio and has even won their Superbowl of Comedy. He has put out over 20 comedy CDs and DVDs. He was inducted into The Guinness Book of World’s Records for “the longest stand up comedy show by an individual” at 40 hours of straight standup! He’s been on over 100 TV shows and costarred in Boondock Saints I and II and All Saints Day\, playing Detective Greenly. He has toured the US\, Europe\, Canada\, Kuwait and Iraq. \nIndulge your senses in great food and dine at one of our on-site restaurants before the show! Click to make a reservation for dinner before the show at Seaglass Restaurant\, SurfSide Salisbury\, or Capri Seaside Italian Kitchen & Pizzeria.
URL:https://www.blueoceanhall.com/event/comedian-bob-marley-48/
ATTACH;FMTTYPE=image/jpeg:https://www.blueoceanhall.com/wp-content/uploads/2022/08/bobmarley3cropped.jpg
END:VEVENT
BEGIN:VEVENT
DTSTART;TZID=America/New_York:20250719T200000
DTEND;TZID=America/New_York:20250719T213000
DTSTAMP:20260419T114004
CREATED:20250408T140041Z
LAST-MODIFIED:20250519T202155Z
UID:4954-1752955200-1752960600@www.blueoceanhall.com
SUMMARY:Comedian Bob Marley
DESCRIPTION:Doors Open at 7:30PM \nReserved Seating $39.50\n+ $3 Additional Day of Show \nBUY TICKETS \nAbout Bob Marley \n\nCelebrating 15 years as a stand up comic\, Bob Marley is one of the hottest and most sought-after comedians in the country. He has been featured in his own special on Comedy Central\, and is one of the few comics to do the complete late night television circuit\, Late Show with David Letterman\, The Tonight Show with Jay Leno\, Late Night with Conan O’Brien\, The Late Late Show with Craig Ferguson\, and The Late Late Show with Craig Kilborn. \nThe Maine native is featured regularly on Sirius XM radio and has even won their Superbowl of Comedy. He has put out over 20 comedy CDs and DVDs. He was inducted into The Guinness Book of World’s Records for “the longest stand up comedy show by an individual” at 40 hours of straight standup! He’s been on over 100 TV shows and costarred in Boondock Saints I and II and All Saints Day\, playing Detective Greenly. He has toured the US\, Europe\, Canada\, Kuwait and Iraq. \nIndulge your senses in great food and dine at one of our on-site restaurants before the show! Click to make a reservation for dinner before the show at Seaglass Restaurant\, SurfSide Salisbury\, or Capri Seaside Italian Kitchen & Pizzeria.
URL:https://www.blueoceanhall.com/event/comedian-bob-marley-47/
ATTACH;FMTTYPE=image/jpeg:https://www.blueoceanhall.com/wp-content/uploads/2022/08/bobmarley3cropped.jpg
END:VEVENT
BEGIN:VEVENT
DTSTART;TZID=America/New_York:20250720T170000
DTEND;TZID=America/New_York:20250720T183000
DTSTAMP:20260419T114004
CREATED:20250610T140039Z
LAST-MODIFIED:20250613T135630Z
UID:5090-1753030800-1753036200@www.blueoceanhall.com
SUMMARY:Comedian Bob Marley
DESCRIPTION:Doors Open at 4PM \nReserved Seating $39.50\n+ $3 Additional Day of Show \nBUY TICKETS \nAbout Bob Marley \n\nCelebrating 15 years as a stand up comic\, Bob Marley is one of the hottest and most sought-after comedians in the country. He has been featured in his own special on Comedy Central\, and is one of the few comics to do the complete late night television circuit\, Late Show with David Letterman\, The Tonight Show with Jay Leno\, Late Night with Conan O’Brien\, The Late Late Show with Craig Ferguson\, and The Late Late Show with Craig Kilborn. \nThe Maine native is featured regularly on Sirius XM radio and has even won their Superbowl of Comedy. He has put out over 20 comedy CDs and DVDs. He was inducted into The Guinness Book of World’s Records for “the longest stand up comedy show by an individual” at 40 hours of straight standup! He’s been on over 100 TV shows and costarred in Boondock Saints I and II and All Saints Day\, playing Detective Greenly. He has toured the US\, Europe\, Canada\, Kuwait and Iraq. \nIndulge your senses in great food and dine at one of our on-site restaurants before the show! Click to make a reservation for dinner before the show at Seaglass Restaurant\, SurfSide Salisbury\, or Capri Seaside Italian Kitchen & Pizzeria.
URL:https://www.blueoceanhall.com/event/comedian-bob-marley-50/
ATTACH;FMTTYPE=image/jpeg:https://www.blueoceanhall.com/wp-content/uploads/2022/08/bobmarley3cropped.jpg
END:VEVENT
BEGIN:VEVENT
DTSTART;TZID=America/New_York:20250720T193000
DTEND;TZID=America/New_York:20250720T203000
DTSTAMP:20260419T114004
CREATED:20250513T140005Z
LAST-MODIFIED:20250607T203851Z
UID:5013-1753039800-1753043400@www.blueoceanhall.com
SUMMARY:Comedian Bob Marley
DESCRIPTION:Doors Open at 7PM \nReserved Seating $39.50\n+ $3 Additional Day of Show \nBUY TICKETS \nAbout Bob Marley \n\nCelebrating 15 years as a stand up comic\, Bob Marley is one of the hottest and most sought-after comedians in the country. He has been featured in his own special on Comedy Central\, and is one of the few comics to do the complete late night television circuit\, Late Show with David Letterman\, The Tonight Show with Jay Leno\, Late Night with Conan O’Brien\, The Late Late Show with Craig Ferguson\, and The Late Late Show with Craig Kilborn. \nThe Maine native is featured regularly on Sirius XM radio and has even won their Superbowl of Comedy. He has put out over 20 comedy CDs and DVDs. He was inducted into The Guinness Book of World’s Records for “the longest stand up comedy show by an individual” at 40 hours of straight standup! He’s been on over 100 TV shows and costarred in Boondock Saints I and II and All Saints Day\, playing Detective Greenly. He has toured the US\, Europe\, Canada\, Kuwait and Iraq. \nIndulge your senses in great food and dine at one of our on-site restaurants before the show! Click to make a reservation for dinner before the show at Seaglass Restaurant\, SurfSide Salisbury\, or Capri Seaside Italian Kitchen & Pizzeria.
URL:https://www.blueoceanhall.com/event/comedian-bob-marley-49/
ATTACH;FMTTYPE=image/jpeg:https://www.blueoceanhall.com/wp-content/uploads/2022/08/bobmarley3cropped.jpg
END:VEVENT
BEGIN:VEVENT
DTSTART;TZID=UTC:20250726T200000
DTEND;TZID=UTC:20250726T220000
DTSTAMP:20260419T114004
CREATED:20250311T140034Z
LAST-MODIFIED:20250314T135428Z
UID:2170-1753560000-1753567200@www.blueoceanhall.com
SUMMARY:Echoes of Floyd
DESCRIPTION:A Tribute to Pink Floyd\nSaturday\, July 26 | 8PM\nReserved Seating:  $19.50 – $25.50\n+ $3 Additional Day of Show \nBUY TICKETS \nAbout Echoes of Floyd \nIndulge your senses in great food and dine at one of our on-site restaurants before the show! Click to make a reservation for dinner before the show at Seaglass Restaurant\,  SurfSide Salisbury or Capri Seaside Italian Kitchen & Pizzeria. 
URL:https://www.blueoceanhall.com/event/echoes-of-floyd/
ATTACH;FMTTYPE=image/jpeg:https://www.blueoceanhall.com/wp-content/uploads/2025/03/Echoes-of-Floyd-BOMH-1-scaled.jpg
END:VEVENT
BEGIN:VEVENT
DTSTART;TZID=America/New_York:20250727T200000
DTEND;TZID=America/New_York:20250727T220000
DTSTAMP:20260419T114004
CREATED:20250311T140006Z
LAST-MODIFIED:20250318T161436Z
UID:4834-1753646400-1753653600@www.blueoceanhall.com
SUMMARY:Sandra Bernhard
DESCRIPTION:Doors Open at 7PM \nReserved Seating: $39.50\n+$3 Additional Day of Show \nThis show is 21+ \nBUY TICKETS \nAbout Sandra Bernhard \nSandra Bernhard has been a performer\, actress\, singer and author for nearly five decades in the industry. In 2025\, this American icon and “OG” comedy queen can be seen on the big screen in the A24 feature film\, Marty Supreme alongside Timothée Chalamet\, directed by Josh Safdie. In addition\, on the smaller screen\, she starred as a guest judge in the hugely popular RuPaul’s Drag Race (MTV) when she wasn’t appearing in season two of both Survival of the Thickest (Netflix) opposite Michelle Buteau\, and Percy Jackson & the Olympians (Disney +)\, based on the highly acclaimed fantasy book series.  \nPast television credits include Ryan Murphy’s series American Horror Story and the Emmy Award winning POSE Broad City\, Difficult People\, 2 Broke Girls\, Brooklyn 99\, You’re the Worst\, Will & Grace\, The Sopranos\, and Roseanne. Bernhard’s most notable film credit in Martin Scorsese’s The King of Comedy opposite Robert De Niro\, won her Best Supporting Actress by the National Society of Film Critics. \nBernhard gained attention in the late ‘70s with her stand-up comedy and continues today with live stage performances throughout the U.S. and overseas. A pioneer of the one-woman show\, Bernhard brings a completely unique and raucous mix of cabaret\, stand-up\, rock-n-roll\, and social commentary. \nShe is currently in her ninth year hosting her weekly radio show “Sandyland” on SiriusXM\, for which she won a broadcasting Gracie Award. \n\n\nIndulge your senses in great food and dine at one of our on-site restaurants before the show! Click to make a reservation for dinner before the show at Seaglass Restaurant\, SurfSide Salisbury\, or Capri Seaside Italian Kitchen & Pizzeria.
URL:https://www.blueoceanhall.com/event/sandra-bernhard/
ATTACH;FMTTYPE=image/jpeg:https://www.blueoceanhall.com/wp-content/uploads/2025/03/SB-BOMH.jpg
END:VEVENT
BEGIN:VEVENT
DTSTART;TZID=UTC:20250729T200000
DTEND;TZID=UTC:20250729T220000
DTSTAMP:20260419T114004
CREATED:20250127T150037Z
LAST-MODIFIED:20250131T145717Z
UID:4698-1753819200-1753826400@www.blueoceanhall.com
SUMMARY:The Concert: A Tribute to ABBA
DESCRIPTION:Reserved Seating:  $59.50 – $79.50\n+ $3 Additional Day of Show \nBUY TICKETS \nAbout The Concert: A Tribute to ABBA \n21st Century Artists\, Inc. has been presenting its ABBA tribute show throughout North America for well over a decade\, previously known as ABBA The Music\, ABBA The Hits\, and ABBA The Concert. The audience and press all agree – “This is the closest to ABBA you’ll ever get.” The Concert: A Tribute To ABBA brings one of the greatest pop phenomena back to life…  Here are a few highlights from its many successful US tours… \n\n Sold-out shows at the famous Hollywood Bowl in Los Angeles (15\,000 people)\nHighland Park in Chicago (20\,000 people)\nSeaside Summer Concert Series in Brooklyn\, NY (11\,000+ people)\n Sold-out nights at both the Sunrise Theatre in Fort Pierce\, FL and at the Kravis Center in West Palm Beach\, FL\n Sold-out performance at the Wolf Trap in Vienna\, VA\n\nThe Concert: A Tribute To ABBA continues to be the top ABBA tribute group in the world\, dazzling all who see with their fantastic performance while playing the most iconic hits from ABBA\, including “Mamma Mia\,” “S.O.S\,” “Money\, Money\, Money\,” “The Winner Takes All\,” “Waterloo\,” “Gimme\, Gimme\, Gimme\,” and “Dancing Queen.” Many critics agree\, The Concert: A Tribute To ABBA is the most amazing and authentic ABBA tribute show in the world. Come dance\, come sing\, having the time of your life at THE ULTIMATE TRIBUTE CELEBRATION! \nTHE CONCERT is not affiliated with the original ABBA group\, Polar Music\, or Mamma Mia. \nIndulge your senses in great food and dine at one of our on-site restaurants before the show! Click to make a reservation for dinner before the show at Seaglass Restaurant\, SurfSide Salisbury\, or Capri Seaside Italian Kitchen & Pizzeria.
URL:https://www.blueoceanhall.com/event/the-concert-a-tribute-to-abba-4/
ATTACH;FMTTYPE=image/jpeg:https://www.blueoceanhall.com/wp-content/uploads/2023/01/The-Concert-ATC-BOMH.jpg
END:VEVENT
BEGIN:VEVENT
DTSTART;TZID=UTC:20250730T200000
DTEND;TZID=UTC:20250730T220000
DTSTAMP:20260419T114004
CREATED:20250127T150001Z
LAST-MODIFIED:20250131T145721Z
UID:4700-1753905600-1753912800@www.blueoceanhall.com
SUMMARY:The Concert: A Tribute to ABBA
DESCRIPTION:Reserved Seating:  $59.50 – $79.50\n+ $3 Additional Day of Show \nBUY TICKETS \nAbout The Concert: A Tribute to ABBA \n21st Century Artists\, Inc. has been presenting its ABBA tribute show throughout North America for well over a decade\, previously known as ABBA The Music\, ABBA The Hits\, and ABBA The Concert. The audience and press all agree – “This is the closest to ABBA you’ll ever get.” The Concert: A Tribute To ABBA brings one of the greatest pop phenomena back to life…  Here are a few highlights from its many successful US tours… \n\n Sold-out shows at the famous Hollywood Bowl in Los Angeles (15\,000 people)\nHighland Park in Chicago (20\,000 people)\nSeaside Summer Concert Series in Brooklyn\, NY (11\,000+ people)\n Sold-out nights at both the Sunrise Theatre in Fort Pierce\, FL and at the Kravis Center in West Palm Beach\, FL\n Sold-out performance at the Wolf Trap in Vienna\, VA\n\nThe Concert: A Tribute To ABBA continues to be the top ABBA tribute group in the world\, dazzling all who see with their fantastic performance while playing the most iconic hits from ABBA\, including “Mamma Mia\,” “S.O.S\,” “Money\, Money\, Money\,” “The Winner Takes All\,” “Waterloo\,” “Gimme\, Gimme\, Gimme\,” and “Dancing Queen.” Many critics agree\, The Concert: A Tribute To ABBA is the most amazing and authentic ABBA tribute show in the world. Come dance\, come sing\, having the time of your life at THE ULTIMATE TRIBUTE CELEBRATION! \nTHE CONCERT is not affiliated with the original ABBA group\, Polar Music\, or Mamma Mia. \nIndulge your senses in great food and dine at one of our on-site restaurants before the show! Click to make a reservation for dinner before the show at Seaglass Restaurant\, SurfSide Salisbury\, or Capri Seaside Italian Kitchen & Pizzeria.
URL:https://www.blueoceanhall.com/event/the-concert-a-tribute-to-abba-5/
ATTACH;FMTTYPE=image/jpeg:https://www.blueoceanhall.com/wp-content/uploads/2023/01/The-Concert-ATC-BOMH.jpg
END:VEVENT
END:VCALENDAR