BEGIN:VCALENDAR
VERSION:2.0
PRODID:-//Blue Ocean Music Hall - OFFICIAL SITE - ECPv6.15.20//NONSGML v1.0//EN
CALSCALE:GREGORIAN
METHOD:PUBLISH
X-WR-CALNAME:Blue Ocean Music Hall - OFFICIAL SITE
X-ORIGINAL-URL:https://www.blueoceanhall.com
X-WR-CALDESC:Events for Blue Ocean Music Hall - OFFICIAL SITE
REFRESH-INTERVAL;VALUE=DURATION:PT1H
X-Robots-Tag:noindex
X-PUBLISHED-TTL:PT1H
BEGIN:VTIMEZONE
TZID:UTC
BEGIN:STANDARD
TZOFFSETFROM:+0000
TZOFFSETTO:+0000
TZNAME:UTC
DTSTART:20250101T000000
END:STANDARD
END:VTIMEZONE
BEGIN:VEVENT
DTSTART;TZID=UTC:20260424T200000
DTEND;TZID=UTC:20260424T213000
DTSTAMP:20260424T191757
CREATED:20251111T150003Z
LAST-MODIFIED:20260319T192400Z
UID:5531-1777060800-1777066200@www.blueoceanhall.com
SUMMARY:Haus of Monsters - Lady Gaga Tribute
DESCRIPTION:Doors Open at 7PM \nReserved Seating: $ 29.50 – $35.50\n+$3 Additional Day of Show \nBUY TICKETS \nAbout the Show \n\nHaus of Monsters is the ultimate Lady Gaga tribute experience – an electrifying celebration of one of the most iconic pop stars of our time. Based in New York City\, the birthplace of Gaga herself\, the band is made up of some of the city’s top session musicians and lifelong Little Monsters who live and breathe her music. \nMore than just a tribute band\, Haus of Monsters delivers the full Gaga experience: a powerhouse live band\, dazzling backup dancers\, stunning costumes\, and all the theatrical flair fans expect. Every performance is a journey through Gaga’s greatest hits\, from the dance floor anthems to the show-stopping ballads\, honoring her artistry\, creativity\, and fearless spirit. \nRecognized as the premier Lady Gaga tribute band in the USA\, Haus of Monsters brings fans together to celebrate the music\, message\, and magic of Mother Monster herself. \n \n\nIndulge your senses in great food and dine at one of our on-site restaurants before the show! Click to make a reservation for dinner before the show at Seaglass Restaurant\, or  Capri Seaside Italian Kitchen & Pizzeria.
URL:https://www.blueoceanhall.com/event/haus-of-monsters-lady-gaga-tribute/
ATTACH;FMTTYPE=image/jpeg:https://www.blueoceanhall.com/wp-content/uploads/2025/11/BOMH-3.jpg
END:VEVENT
BEGIN:VEVENT
DTSTART;TZID=UTC:20260425T200000
DTEND;TZID=UTC:20260425T220000
DTSTAMP:20260424T191757
CREATED:20250527T140008Z
LAST-MODIFIED:20260416T154342Z
UID:4173-1777147200-1777154400@www.blueoceanhall.com
SUMMARY:Jimmy Kenny & The Pirate Beach Band
DESCRIPTION:The Ultimate Beach Party Tribute to Jimmy Buffett\, Kenny Chesney\, and the Zac Brown Band!\nDoors Open at 7PM \nReserved Seating: $25.50 – $29.50\n+ $3 Additional day of show\n \nBUY TICKETS \nAbout Jimmy Kenny & The Pirate Beach Band  \nCalling all Parrotheads\, No Shoes Nation and the Zamily!\nIt’s 5 o’clock somewhere so Let’s Raise ‘Em Up and sing along! \nBased on Long Island\, NY\, Jimmy Kenny and the Pirate Beach Band have been celebrating the beach country sounds of Jimmy Buffett\, Kenny Chesney and Zac Brown Band\, up and down the Northeast coast\, from Maine to Maryland\, for over 15 years\, providing a wonderful mix of their popular sing-along hits and feel good\, easy living vibes! \nIf you like your toes in the sand\, wasting away with a margarita or a cold beer on a Friday night\, then you’ll love having a great time with the Jimmy Kenny Band! \n \nIndulge your senses in great food and dine at one of our on-site restaurants before the show! Click to make a reservation for dinner before the show at Seaglass Restaurant or Capri Seaside Italian Kitchen + Pizzeria
URL:https://www.blueoceanhall.com/event/jimmy-kenny-the-pirate-beach-band/
ATTACH;FMTTYPE=image/jpeg:https://www.blueoceanhall.com/wp-content/uploads/2024/08/Jimmy-Kenny-BOMH-2.jpg
END:VEVENT
BEGIN:VEVENT
DTSTART;TZID=UTC:20260426T170000
DTEND;TZID=UTC:20260426T203000
DTSTAMP:20260424T191757
CREATED:20260225T143445Z
LAST-MODIFIED:20260326T141037Z
UID:5873-1777222800-1777235400@www.blueoceanhall.com
SUMMARY:Sunday Supper & Sinatra
DESCRIPTION:An Evening of Italian Favorites & Timeless Music ft Michael Dutra  \n4:30PM Doors | 5:00PM Dinner | 6:00PM Show \n$65pp inclusive of show\, buffet\, tax and administrative fee\n+ $3 Additional Day of Show \n  \nPLEASE NOTE: Seating is at tables of four. If you are not purchasing all four seats at a table\, you will be seated with other guests.  \nBUY TICKETS \nSunday Supper & Sinatra \nStep into an elegant evening of classic Italian comfort and the unforgettable music of Frank Sinatra. Join us for Sunday Supper & Sinatra\, featuring Michael Dutra of Strictly Sinatra\, performing beloved standards made famous by Ol’ Blue Eyes. Singing to instrumental background music\, Michael captures the smooth style\, charm\, and iconic sound that defined a generation. After dinner\, sit back and enjoy the show — or take to the dance floor and sway to timeless hits like Fly Me to the Moon\, My Way\, New York\, New York\, and more. \nDINNER MENU\nItalian buffet will be served pre-show from 5PM-6PM and includes: \nMista Salad\nChicken Piccata \nStuffed Shells\nSeasonal Vegetable Medley\nTripoli’s Italian Bread\nClassic Italian Cannoli \nABOUT MICHAEL DUTRA \nFor more than 20 years\, Michael Dutra has been performing his tribute to Frank Sinatra all over the United States—from Las Vegas to Miami and across New England\, in supper clubs\, iconic theaters\, and performing arts centers including the world famous BB Kings and Blue Note in New York. Michael was recently hailed by the Boston Globe as one of the finest interpreters of the Sinatra sound in the world–“his sound is velour to Sinatra’s velvet\, you really can’t tell the difference.” \n 
URL:https://www.blueoceanhall.com/event/sunday-supper-sinatra/
ATTACH;FMTTYPE=image/jpeg:https://www.blueoceanhall.com/wp-content/uploads/2026/02/BOMH-Sunday-Supper-Sinatra-Graphic-e1772031277352.jpg
END:VEVENT
END:VCALENDAR